BEGIN:VCALENDAR
VERSION:2.0
PRODID:-//185.159.123.149//NONSGML kigkonsult.se iCalcreator 2.20//
CALSCALE:GREGORIAN
METHOD:PUBLISH
X-WR-TIMEZONE:Europe/Berlin
BEGIN:VEVENT
UID:event175@Dorfgemeinschaft Scheven
DTSTAMP:20260422T134617Z
CATEGORIES:Dorfgemeinschaft Scheven
DESCRIPTION:Dorfgemeinschaft Scheven Hauptversammlung\nKategorie: Dorfgemei
 nschaft Scheven\nICS-Link: https://www.dorfgemeinschaft-scheven.de/index.p
 hp?option=com_jem&view=event&id=175:dorfgemeinschaft-scheven-hauptversamml
 ung\n
DTSTART;TZID=Europe/Berlin:20260522T200000
DTEND;TZID=Europe/Berlin:20260522T200000
LOCATION:Dorfsaal Scheven\,Wallenthaller Str. 4\,53925 Kall-Scheven
SUMMARY:Dorfgemeinschaft Scheven Hauptversammlung
URL:https://www.dorfgemeinschaft-scheven.de/index.php?option=com_jem&view=e
 vent&id=175:dorfgemeinschaft-scheven-hauptversammlung
END:VEVENT
END:VCALENDAR