BEGIN:VCALENDAR
VERSION:2.0
PRODID:-//185.159.123.149//NONSGML kigkonsult.se iCalcreator 2.20//
CALSCALE:GREGORIAN
METHOD:PUBLISH
X-WR-TIMEZONE:Europe/Berlin
BEGIN:VEVENT
UID:event174@Dorfgemeinschaft Scheven
DTSTAMP:20260422T152410Z
CATEGORIES:Dorfgemeinschaft Scheven
DESCRIPTION:Tanz in den Mai\nKategorie: Dorfgemeinschaft Scheven\nICS-Link:
  https://www.dorfgemeinschaft-scheven.de/index.php?option=com_jem&view=eve
 nt&id=174:tanz-in-den-mai\n
DTSTART;TZID=Europe/Berlin:20260430T180000
DTEND;TZID=Europe/Berlin:20260501T180000
LOCATION:Dorfsaal Scheven\,Wallenthaller Str. 4\,53925 Kall-Scheven\,German
 y
SUMMARY:Tanz in den Mai
URL:https://www.dorfgemeinschaft-scheven.de/index.php?option=com_jem&view=e
 vent&id=174:tanz-in-den-mai
END:VEVENT
END:VCALENDAR